BEGIN:VCALENDAR
VERSION:2.0
PRODID:-//Sortir43 - Votre agenda des spectacles, culture, sports et loisirs - ECPv5.11.0//NONSGML v1.0//EN
CALSCALE:GREGORIAN
METHOD:PUBLISH
X-WR-CALNAME:Sortir43 - Votre agenda des spectacles, culture, sports et loisirs
X-ORIGINAL-URL:https://www.sortir43.com
X-WR-CALDESC:évènements pour Sortir43 - Votre agenda des spectacles, culture, sports et loisirs
BEGIN:VTIMEZONE
TZID:Europe/Paris
BEGIN:DAYLIGHT
TZOFFSETFROM:+0100
TZOFFSETTO:+0200
TZNAME:CEST
DTSTART:20260329T010000
END:DAYLIGHT
BEGIN:STANDARD
TZOFFSETFROM:+0200
TZOFFSETTO:+0100
TZNAME:CET
DTSTART:20261025T010000
END:STANDARD
END:VTIMEZONE
BEGIN:VEVENT
DTSTART;VALUE=DATE:20260512
DTEND;VALUE=DATE:20260513
DTSTAMP:20260421T212347
CREATED:20250901T141017Z
LAST-MODIFIED:20250901T141017Z
UID:72089-1778544000-1778630399@www.sortir43.com
SUMMARY:Apéro atelier Vélo
DESCRIPTION:Apéro atelier Vélo\nMoment convivial pour apprendre à réparer et entretenir son vélo avec l’aide d’un bénévole de La Puycyclette. \nApportez votre vélo\, quelques outils et pièces sont fournis. \nGratuit sur adhésion à l’asso la Puycyclette (5 à 10 €). \nRenseignements ici \n 
URL:https://www.sortir43.com/evenement/apero-atelier-velo-3/2026-05-12/
LOCATION:Le Puy-en-Velay\, Le Puy-en-Velay\, 43000\, France
CATEGORIES:Sports-Loisirs
ATTACH;FMTTYPE=image/jpeg:https://www.sortir43.com/wp-content/uploads/2024/09/Puycyclette.jpg
END:VEVENT
END:VCALENDAR