BEGIN:VCALENDAR
VERSION:2.0
PRODID:-//Sortir43 - Votre agenda des spectacles, culture, sports et loisirs - ECPv5.11.0//NONSGML v1.0//EN
CALSCALE:GREGORIAN
METHOD:PUBLISH
X-WR-CALNAME:Sortir43 - Votre agenda des spectacles, culture, sports et loisirs
X-ORIGINAL-URL:https://www.sortir43.com
X-WR-CALDESC:évènements pour Sortir43 - Votre agenda des spectacles, culture, sports et loisirs
BEGIN:VTIMEZONE
TZID:Europe/Paris
BEGIN:DAYLIGHT
TZOFFSETFROM:+0100
TZOFFSETTO:+0200
TZNAME:CEST
DTSTART:20260329T010000
END:DAYLIGHT
BEGIN:STANDARD
TZOFFSETFROM:+0200
TZOFFSETTO:+0100
TZNAME:CET
DTSTART:20261025T010000
END:STANDARD
BEGIN:DAYLIGHT
TZOFFSETFROM:+0100
TZOFFSETTO:+0200
TZNAME:CEST
DTSTART:20270328T010000
END:DAYLIGHT
BEGIN:STANDARD
TZOFFSETFROM:+0200
TZOFFSETTO:+0100
TZNAME:CET
DTSTART:20271031T010000
END:STANDARD
END:VTIMEZONE
BEGIN:VEVENT
DTSTART;VALUE=DATE:20260423
DTEND;VALUE=DATE:20270424
DTSTAMP:20260423T164819
CREATED:20260423T095028Z
LAST-MODIFIED:20260423T100154Z
UID:77246-1776902400-1808524799@www.sortir43.com
SUMMARY:Abonnement au magazine Sortir 43
DESCRIPTION:Abonnez-vous au magazine Sortir 43 et recevez-le directement dans votre boîte aux lettres dès parution !\nVous nous l’avez demandé\, alors nous l’avons fait !\nVous pouvez télécharger le bulletin d’abonnement en cliquant sur la pièce jointe ci-dessous. \nA noter : pas de changement en ce qui concerne la mise à disposition gratuite du magazine dans nos points habituels.
URL:https://www.sortir43.com/evenement/abonnez-vous-au-magazine-sortir-43/
LOCATION:Haute-Loire\, Haute-Loire\, France
CATEGORIES:Animations
ATTACH;FMTTYPE=image/png:https://www.sortir43.com/wp-content/uploads/2026/04/Abonnement-annuel-à-Sortir-43-FB.png
END:VEVENT
END:VCALENDAR