BEGIN:VCALENDAR
VERSION:2.0
PRODID:-//Sortir43 - Votre agenda des spectacles, culture, sports et loisirs - ECPv5.11.0//NONSGML v1.0//EN
CALSCALE:GREGORIAN
METHOD:PUBLISH
X-WR-CALNAME:Sortir43 - Votre agenda des spectacles, culture, sports et loisirs
X-ORIGINAL-URL:https://www.sortir43.com
X-WR-CALDESC:évènements pour Sortir43 - Votre agenda des spectacles, culture, sports et loisirs
BEGIN:VTIMEZONE
TZID:Europe/Paris
BEGIN:DAYLIGHT
TZOFFSETFROM:+0100
TZOFFSETTO:+0200
TZNAME:CEST
DTSTART:20260329T010000
END:DAYLIGHT
BEGIN:STANDARD
TZOFFSETFROM:+0200
TZOFFSETTO:+0100
TZNAME:CET
DTSTART:20261025T010000
END:STANDARD
END:VTIMEZONE
BEGIN:VEVENT
DTSTART;VALUE=DATE:20260503
DTEND;VALUE=DATE:20260504
DTSTAMP:20260422T160601
CREATED:20260302T110103Z
LAST-MODIFIED:20260402T124034Z
UID:72458-1777766400-1777852799@www.sortir43.com
SUMMARY:1ère Fête des Plantes et artisanat
DESCRIPTION:1ère Fête des Plantes et artisanat.\nTarif pour les exposants : 5 € le mètre linéaire.
URL:https://www.sortir43.com/evenement/1ere-fete-des-plantes-et-artisanat/
LOCATION:Craponne-sur-Arzon\, Craponne-sur-Arzon\, 43500\, France
CATEGORIES:Animations
ATTACH;FMTTYPE=image/jpeg:https://www.sortir43.com/wp-content/uploads/2026/03/Fete-plantes-artisanat-GEN.jpg
END:VEVENT
END:VCALENDAR